BEGIN:VCALENDAR
VERSION:2.0
PRODID:-//tier-notruf J4//NONSGML kigkonsult.se iCalcreator 2.30.10//
CALSCALE:GREGORIAN
METHOD:PUBLISH
UID:72d3383e-98e2-4550-9d44-b769431389af
X-WR-CALNAME:iCagenda
X-WR-CALDESC:Event Management Extension for Joomla!
X-WR-RELCALID:3E26604A-50F4-4449-8B3E-E4F4932D05B5
X-WR-TIMEZONE:Europe/Berlin
BEGIN:VTIMEZONE
TZID:Europe/Berlin
BEGIN:STANDARD
TZNAME:CET
DTSTART:20211031T030000
TZOFFSETFROM:+0200
TZOFFSETTO:+0100
RDATE:20221030T030000
RDATE:20231029T030000
END:STANDARD
BEGIN:DAYLIGHT
TZNAME:CEST
DTSTART:20220327T020000
TZOFFSETFROM:+0100
TZOFFSETTO:+0200
RDATE:20230326T020000
END:DAYLIGHT
END:VTIMEZONE
BEGIN:VEVENT
UID:781259e2-f31a-42e3-aeee-699cc4a93417
DTSTAMP:20260421T102750Z
CATEGORIES:Info-Stand
CLASS:PUBLIC
DESCRIPTION;ALTREP="CID:<FFFF__=0ABBE548DFE235B58f9e8a93d@coffeebean.com>":
 Am 2.7. 2022 ist die Tierrettung TIER-NOTRUF.de mit einem ihrer voll ausge
 statteten Tier-Rettungswagen zu Gast beim Futterhaus in Lauenburg.  Zwisch
 en 10-17 Uhr haben Besucher die Möglichkeit\, kostenlos die Vitalwerte ihr
 es Haustieres checken zu lassen. Sofern vorhanden\, kann das Team vor Ort 
 auch die Chipnummer des Tieres auslesen. Auch ist es möglich\, beispielswe
 ise beim Hund die Krallen kürzen zu lassen\, oder einen Fell- und Flohchec
 k vorzunehmen.  Es ist immer gut und wichtig\, die Ruhewerte des eigenen T
 ieres zu kennen\, damit man im Notfall weiß\, inwieweit sich diese verände
 rn. Das heißt\, welch Puls- und Atemfrequenz\, welche Temperatur und welch
 er Sauerstoffgehalt ist bei dem gesunden Tier und Individuum normal? Denn 
 je nach Größe\, Alter\, Vorerkrankungen und Belastung können sich diese au
 ch noch einmal deutlich unterscheiden.  Gibt es Auffälligkeiten\, die sich
  abhören lassen und gegebenenfalls ärztlich abgeklärt werden sollten?  Dar
 über hinaus bringen die ausgebildeten Tierunfallsanitäter:innen ein Glücks
 rad mit\, wer dreht und gewinnt\, darf sich ein kleines Geschenk mitnehmen
 .  Nicht zuletzt informiert das lokale Team der Tierrettung allgemein über
  die Unfallvorbeugung\, das Handeln im akuten Notfall und über die aktuell
 sten Notfallnummern.  Hier kann man sich gleich die durchgehend erreichbar
 e Notfallnummer vom TIER-NOTRUF.de speichern: (0800) 111 15 15 und die tie
 rärztliche Notrufnummer der Tierärztekammer Schleswig-Holstein: (0481) 858
 23998  Auch berichten die Tierfreunde gerne über die Möglichkeit\, selbst 
 ehrenamtlich tätig zu werden. Die TIER-NOTRUF.de Akademie bildet ihre Ehre
 nämtler kostenlos für ihre Aufgaben in der Haustierrettung und Fundtiersic
 herung\, sowie für die Drohnenstaffel und Leitstellenarbeit aus.  Die Droh
 nenstaffel übernimmt derzeit gratis und nach Absprache Aufgaben im Bereich
  Tiersuche und Kitzrettung.  Der TIER-NOTRUF.de  freut sich über zahlreich
 e Besucher\, mit oder ohne das eigene Haustier!
DTSTART:20220702T080000Z
DTEND:20220702T080000Z
GEO:+53.375946;+10.568538
LOCATION:21481 Lauenburg
ORGANIZER:
SEQUENCE:1
SUMMARY:Info-Stand
TRANSP:OPAQUE
URL:https://intern.tier-notruf.de/index.php/infostand/13-info-stand-5/2022-
 07-02-10-00
END:VEVENT
END:VCALENDAR
